BEGIN:VCALENDAR
VERSION:2.0
PRODID:-//wp-events-plugin.com//7.2.3.1//EN
BEGIN:VEVENT
UID:20@concellodemarin.es
DTSTART;TZID=Europe/Madrid;VALUE=DATE:20260501
DTEND;TZID=Europe/Madrid;VALUE=DATE:20260504
DTSTAMP:20260423T132313Z
URL:https://www.concellodemarin.es/event/v-open-ence-villa-de-marin/
SUMMARY:V Open Ence Villa de Marín
DESCRIPTION:A actividade no colexio SEI San Narciso comezará o vindeiro 30
  de abril cos sorteos e os pesaxes previos. A competición oficial arrinca
 rá o venres 1 de maio\, cunha previsión de 180 combates na xornada inaug
 ural repartidos en catro rings de forma simultánea. O torneo continuará 
 o sábado 2 e culminará coas grandes finais o domingo 3 de maio.
ATTACH;FMTTYPE=image/jpeg:https://www.concellodemarin.es/wp-content/upload
 s/2026/04/V-Open-Ence-Villa-de-Marin.jpg
CATEGORIES:DEPORTES
LOCATION:SEI San Narciso\, Chan do Monte\, 27\, Marín\, 36900 \, Spain
X-APPLE-STRUCTURED-LOCATION;VALUE=URI;X-ADDRESS=Chan do Monte\, 27\, Marín
 \, 36900 \, Spain;X-APPLE-RADIUS=100;X-TITLE=SEI San Narciso:geo:0,0
END:VEVENT
BEGIN:VTIMEZONE
TZID:Europe/Madrid
X-LIC-LOCATION:Europe/Madrid
BEGIN:DAYLIGHT
DTSTART:20260329T030000
TZOFFSETFROM:+0100
TZOFFSETTO:+0200
TZNAME:CEST
END:DAYLIGHT
END:VTIMEZONE
END:VCALENDAR